BEGIN:VCALENDAR
VERSION:2.0
PRODID:-//wp-events-plugin.com//7.2.3.1//EN
BEGIN:VEVENT
UID:18@ulesoft.com
DTSTART:20261119T173000Z
DTEND:20261119T193000Z
DTSTAMP:20251115T124936Z
URL:https://www.ulesoft.com/veranstaltungen/vorsorgevollmacht-patientenver
 fuegung-betreuungsverfuegung-etc-3
SUMMARY:Vorsorgevollmacht\, Patientenverfügung\, Betreuungsverfügung etc.
DESCRIPTION:
LOCATION:Krumm Wekeln\, Hülsdonkstrasse 203\, Willich Wekeln\, NRW\, 47877
 \, Deutschland
X-APPLE-STRUCTURED-LOCATION;VALUE=URI;X-ADDRESS=Hülsdonkstrasse 203\, Will
 ich Wekeln\, NRW\, 47877\, Deutschland;X-APPLE-RADIUS=100;X-TITLE=Krumm We
 keln:geo:0,0
END:VEVENT
END:VCALENDAR